BEGIN:VCALENDAR
VERSION:2.0
PRODID:-//Plone.org//NONSGML plone.app.event//EN
X-WR-TIMEZONE:Europe/Madrid
BEGIN:VEVENT
SUMMARY:Colors Edition. Dream Market
DTSTART;TZID=Europe/Madrid;VALUE=DATE-TIME:20160516T000000
DTEND;TZID=Europe/Madrid;VALUE=DATE-TIME:20160516T010000
DTSTAMP;VALUE=DATE-TIME:20260421T160326Z
UID:4f0edfdb0264de5a7bd5abf358ef285b
CREATED;VALUE=DATE-TIME:20160516T000000Z
ORGANIZER:Àrea de Promoció Econòmica
COMMENT:Durada: 14, 15 i 16* (*migdia)
URL:https://www.canetdemar.cat/document.php?id=14438
END:VEVENT
END:VCALENDAR