BEGIN:VCALENDAR
VERSION:2.0
PRODID:-//Plone.org//NONSGML plone.app.event//EN
X-WR-TIMEZONE:Europe/Madrid
BEGIN:VEVENT
SUMMARY:Ball d'envelat
DTSTART;TZID=Europe/Madrid;VALUE=DATE-TIME:20050320T190000
DTEND;TZID=Europe/Madrid;VALUE=DATE-TIME:20050320T200000
DTSTAMP;VALUE=DATE-TIME:20260421T110810Z
UID:fe85ad0944c2025018ec1a764c6fbe3f
CREATED;VALUE=DATE-TIME:20050320T000000Z
URL:https://www.canetdemar.cat/document.php?id=1441
END:VEVENT
END:VCALENDAR