BEGIN:VCALENDAR
VERSION:2.0
PRODID:-//Plone.org//NONSGML plone.app.event//EN
X-WR-TIMEZONE:Europe/Madrid
BEGIN:VEVENT
SUMMARY:Joves, anem a esquiar!!!
DTSTART;TZID=Europe/Madrid;VALUE=DATE-TIME:20050319T000000
DTEND;TZID=Europe/Madrid;VALUE=DATE-TIME:20050319T010000
DTSTAMP;VALUE=DATE-TIME:20260425T022217Z
UID:83e6346b1aeb98bda784c8ecb84bebd5
CREATED;VALUE=DATE-TIME:20050319T000000Z
URL:https://www.canetdemar.cat/document.php?id=1440
END:VEVENT
END:VCALENDAR