BEGIN:VCALENDAR
VERSION:2.0
PRODID:-//Plone.org//NONSGML plone.app.event//EN
X-WR-TIMEZONE:Europe/Madrid
BEGIN:VEVENT
SUMMARY:Acte de cloenda dels clubs de lectura de la Biblioteca P. Gual i Pujadas
DTSTART;TZID=Europe/Madrid;VALUE=DATE-TIME:20160610T183000
DTEND;TZID=Europe/Madrid;VALUE=DATE-TIME:20160610T193000
DTSTAMP;VALUE=DATE-TIME:20260423T153724Z
UID:8c363a7672952017e9b7193da60093f2
CREATED;VALUE=DATE-TIME:20160610T000000Z
CATEGORIES:Literatura
LOCATION:Casa museu Lluís Domènech i Montaner
ORGANIZER:Biblioteca P. Gual i Pujadas
URL:https://www.canetdemar.cat/document.php?id=14391
END:VEVENT
END:VCALENDAR