BEGIN:VCALENDAR
VERSION:2.0
PRODID:-//Plone.org//NONSGML plone.app.event//EN
X-WR-TIMEZONE:Europe/Madrid
BEGIN:VEVENT
SUMMARY:Ball a l'envelat
DTSTART;TZID=Europe/Madrid;VALUE=DATE-TIME:20160429T180000
DTEND;TZID=Europe/Madrid;VALUE=DATE-TIME:20160429T190000
DTSTAMP;VALUE=DATE-TIME:20260424T115516Z
UID:e15d19c2087c4f2e76c40c00a137e88c
CREATED;VALUE=DATE-TIME:20160429T000000Z
LOCATION:Envelat de Vil·la Flora
ORGANIZER:Associació de Jubilats i Pensionistes de Canet de Mar
URL:https://www.canetdemar.cat/document.php?id=14385
END:VEVENT
END:VCALENDAR