BEGIN:VCALENDAR
VERSION:2.0
PRODID:-//Plone.org//NONSGML plone.app.event//EN
X-WR-TIMEZONE:Europe/Madrid
BEGIN:VEVENT
SUMMARY:Ball a l'envelat
DTSTART;TZID=Europe/Madrid;VALUE=DATE-TIME:20160401T180000
DTEND;TZID=Europe/Madrid;VALUE=DATE-TIME:20160401T190000
DTSTAMP;VALUE=DATE-TIME:20260422T183942Z
UID:31e3dbc51cd13590016fe2ea9bc7952e
CREATED;VALUE=DATE-TIME:20160401T000000Z
LOCATION:Envelat de Vil·la Flora
ORGANIZER:Associació de Jubilats i Pensionistes
URL:https://www.canetdemar.cat/document.php?id=14368
END:VEVENT
END:VCALENDAR