BEGIN:VCALENDAR
VERSION:2.0
PRODID:-//Plone.org//NONSGML plone.app.event//EN
X-WR-TIMEZONE:Europe/Madrid
BEGIN:VEVENT
SUMMARY:Calçotada popular
DTSTART;TZID=Europe/Madrid;VALUE=DATE-TIME:20160227T140000
DTEND;TZID=Europe/Madrid;VALUE=DATE-TIME:20160227T150000
DTSTAMP;VALUE=DATE-TIME:20260424T081313Z
UID:8d8136f6d8302f9f906c02fb0f8effb0
CREATED;VALUE=DATE-TIME:20160227T000000Z
CATEGORIES:Festa
LOCATION:Club petanca de l'A. V. Maresme
ORGANIZER:A.V. Maresme (pistes club petanca)
COMMENT:Preu: 16 euros
URL:https://www.canetdemar.cat/document.php?id=14364
END:VEVENT
END:VCALENDAR