BEGIN:VCALENDAR
VERSION:2.0
PRODID:-//Plone.org//NONSGML plone.app.event//EN
X-WR-TIMEZONE:Europe/Madrid
BEGIN:VEVENT
SUMMARY:Revetlla de Sant Josep
DTSTART;TZID=Europe/Madrid;VALUE=DATE-TIME:20160319T213000
DTEND;TZID=Europe/Madrid;VALUE=DATE-TIME:20160319T223000
DTSTAMP;VALUE=DATE-TIME:20260421T140709Z
UID:b4b37968d41c621272b4475cc9638c7c
CREATED;VALUE=DATE-TIME:20160319T000000Z
LOCATION:Envelat de Vil·la Flora
ORGANIZER:Amics del ball
COMMENT:Preu: socis: 14 euros, no socis: 18 euros
DESCRIPTION:Sopar i ball
URL:https://www.canetdemar.cat/document.php?id=14348
END:VEVENT
END:VCALENDAR