BEGIN:VCALENDAR
VERSION:2.0
PRODID:-//Plone.org//NONSGML plone.app.event//EN
X-WR-TIMEZONE:Europe/Madrid
BEGIN:VEVENT
SUMMARY:Horari partits Camp de futbol
DTSTART;TZID=Europe/Madrid;VALUE=DATE-TIME:20160220T103000
DTEND;TZID=Europe/Madrid;VALUE=DATE-TIME:20160220T113000
DTSTAMP;VALUE=DATE-TIME:20260423T172334Z
UID:96bc3d1e67f4927a280ba8d63007bbed
CREATED;VALUE=DATE-TIME:20160220T000000Z
LOCATION:Camp de futbol
COMMENT:Durada: del 20 al 21 de febrer de 2016
URL:https://www.canetdemar.cat/document.php?id=14334
END:VEVENT
END:VCALENDAR