BEGIN:VCALENDAR
VERSION:2.0
PRODID:-//Plone.org//NONSGML plone.app.event//EN
X-WR-TIMEZONE:Europe/Madrid
BEGIN:VEVENT
SUMMARY:Xerrada a càrrec de Jaume Barberà
DTSTART;TZID=Europe/Madrid;VALUE=DATE-TIME:20050310T200000
DTEND;TZID=Europe/Madrid;VALUE=DATE-TIME:20050310T210000
DTSTAMP;VALUE=DATE-TIME:20260421T155407Z
UID:b65353a54c98274529d1f1c99438b121
CREATED;VALUE=DATE-TIME:20050310T000000Z
URL:https://www.canetdemar.cat/document.php?id=1430
END:VEVENT
END:VCALENDAR