BEGIN:VCALENDAR
VERSION:2.0
PRODID:-//Plone.org//NONSGML plone.app.event//EN
X-WR-TIMEZONE:Europe/Madrid
BEGIN:VEVENT
SUMMARY:Últim dia per presentar els treballs del III Premi Narrativa Biblioteca de Canet de Mar
DTSTART;TZID=Europe/Madrid;VALUE=DATE-TIME:20160407T000000
DTEND;TZID=Europe/Madrid;VALUE=DATE-TIME:20160407T010000
DTSTAMP;VALUE=DATE-TIME:20260422T164344Z
UID:7bd9eee1135f2d721b4d2512a65a8f3d
CREATED;VALUE=DATE-TIME:20160407T000000Z
ORGANIZER:Biblioteca P. Gual i Pujadas
URL:https://www.canetdemar.cat/document.php?id=14282
END:VEVENT
END:VCALENDAR