BEGIN:VCALENDAR
VERSION:2.0
PRODID:-//Plone.org//NONSGML plone.app.event//EN
X-WR-TIMEZONE:Europe/Madrid
BEGIN:VEVENT
SUMMARY:Concert coral a benefici de Càritas
DTSTART;TZID=Europe/Madrid;VALUE=DATE-TIME:20160318T000000
DTEND;TZID=Europe/Madrid;VALUE=DATE-TIME:20160318T010000
DTSTAMP;VALUE=DATE-TIME:20260424T231858Z
UID:462a4b5b438f85e6cceb3c720dbd092c
CREATED;VALUE=DATE-TIME:20160318T000000Z
ORGANIZER:Escola de Música
URL:https://www.canetdemar.cat/document.php?id=14246
END:VEVENT
END:VCALENDAR