BEGIN:VCALENDAR
VERSION:2.0
PRODID:-//Plone.org//NONSGML plone.app.event//EN
X-WR-TIMEZONE:Europe/Madrid
BEGIN:VEVENT
SUMMARY:II Calçotada popular
DTSTART;TZID=Europe/Madrid;VALUE=DATE-TIME:20160227T000000
DTEND;TZID=Europe/Madrid;VALUE=DATE-TIME:20160227T010000
DTSTAMP;VALUE=DATE-TIME:20260424T185142Z
UID:2c057ee2e2b45666cd3f5c8062a48ea9
CREATED;VALUE=DATE-TIME:20160227T000000Z
ORGANIZER:Club Botxes Canet
COMMENT:Preu: soci: 12 euros, no soci: 15 euros, menors de 10 anys: 5 euros
URL:https://www.canetdemar.cat/document.php?id=14238
END:VEVENT
END:VCALENDAR