BEGIN:VCALENDAR
VERSION:2.0
PRODID:-//Plone.org//NONSGML plone.app.event//EN
X-WR-TIMEZONE:Europe/Madrid
BEGIN:VEVENT
SUMMARY:Ruta guiada: Indians (Americanos) i cementiri
DTSTART;TZID=Europe/Madrid;VALUE=DATE-TIME:20160312T110000
DTEND;TZID=Europe/Madrid;VALUE=DATE-TIME:20160312T120000
DTSTAMP;VALUE=DATE-TIME:20260419T223408Z
UID:0055a9a29742f38e7f14c0a051cc0f21
CREATED;VALUE=DATE-TIME:20160312T000000Z
LOCATION:Casa museu Lluís Domènech i Montaner
ORGANIZER:Casa museu Lluís Domènech i Montaner
COMMENT:Preu: 7 euros
URL:https://www.canetdemar.cat/document.php?id=14233
END:VEVENT
END:VCALENDAR