BEGIN:VCALENDAR
VERSION:2.0
PRODID:-//Plone.org//NONSGML plone.app.event//EN
X-WR-TIMEZONE:Europe/Madrid
BEGIN:VEVENT
SUMMARY:Ruta guiada: patrimoni industrial i religiós
DTSTART;TZID=Europe/Madrid;VALUE=DATE-TIME:20160220T110000
DTEND;TZID=Europe/Madrid;VALUE=DATE-TIME:20160220T120000
DTSTAMP;VALUE=DATE-TIME:20260424T024125Z
UID:20500b990aa54472207c9e78faa36bd2
CREATED;VALUE=DATE-TIME:20160220T000000Z
LOCATION:Casa museu Lluís Domènech i Montaner
ORGANIZER:Casa museu Lluís Domènech i Montaner
COMMENT:Preu: 7 euros
URL:https://www.canetdemar.cat/document.php?id=14231
END:VEVENT
END:VCALENDAR