BEGIN:VCALENDAR
VERSION:2.0
PRODID:-//Plone.org//NONSGML plone.app.event//EN
X-WR-TIMEZONE:Europe/Madrid
BEGIN:VEVENT
SUMMARY:Cloenda de la campanya ONADA SOLIDÀRIA
DTSTART;TZID=Europe/Madrid;VALUE=DATE-TIME:20050313T190000
DTEND;TZID=Europe/Madrid;VALUE=DATE-TIME:20050313T200000
DTSTAMP;VALUE=DATE-TIME:20260424T010906Z
UID:9bc1a9841d3bcffcaa6e3a3e46669e89
CREATED;VALUE=DATE-TIME:20050313T000000Z
URL:https://www.canetdemar.cat/document.php?id=1423
END:VEVENT
END:VCALENDAR