BEGIN:VCALENDAR
VERSION:2.0
PRODID:-//Plone.org//NONSGML plone.app.event//EN
X-WR-TIMEZONE:Europe/Madrid
BEGIN:VEVENT
SUMMARY:Enterro de la sardina i crema del rei Carnestoltes
DTSTART;TZID=Europe/Madrid;VALUE=DATE-TIME:20160210T200000
DTEND;TZID=Europe/Madrid;VALUE=DATE-TIME:20160210T210000
DTSTAMP;VALUE=DATE-TIME:20260422T222407Z
UID:6bd47d91addd2b61588523dedba544a6
CREATED;VALUE=DATE-TIME:20160210T000000Z
LOCATION:Riera Sant Domènec fins la plaça Colomer
ORGANIZER:Comissió de Carnaval
URL:https://www.canetdemar.cat/document.php?id=14227
END:VEVENT
END:VCALENDAR