BEGIN:VCALENDAR
VERSION:2.0
PRODID:-//Plone.org//NONSGML plone.app.event//EN
X-WR-TIMEZONE:Europe/Madrid
BEGIN:VEVENT
SUMMARY:Els Tres Tombs
DTSTART;TZID=Europe/Madrid;VALUE=DATE-TIME:20160228T100000
DTEND;TZID=Europe/Madrid;VALUE=DATE-TIME:20160228T110000
DTSTAMP;VALUE=DATE-TIME:20260424T071957Z
UID:28c4096f6dfefa0ed8fa2b6968fac28c
CREATED;VALUE=DATE-TIME:20160228T000000Z
URL:https://www.canetdemar.cat/document.php?id=14208
END:VEVENT
END:VCALENDAR