BEGIN:VCALENDAR
VERSION:2.0
PRODID:-//Plone.org//NONSGML plone.app.event//EN
X-WR-TIMEZONE:Europe/Madrid
BEGIN:VEVENT
SUMMARY:Celebració dia internacional de la dona treballadora
DTSTART;TZID=Europe/Madrid;VALUE=DATE-TIME:20160312T180000
DTEND;TZID=Europe/Madrid;VALUE=DATE-TIME:20160312T190000
DTSTAMP;VALUE=DATE-TIME:20260424T134114Z
UID:96f8e7b6c7c62ad10958776eaa9e8001
CREATED;VALUE=DATE-TIME:20160312T000000Z
CATEGORIES:Cinema
LOCATION:Centre Parroquial (Eusebi Golart, 16)
ORGANIZER:Sàlvia
DESCRIPTION:Projecció de la pel·lícula: Si de verdad quieres
URL:https://www.canetdemar.cat/document.php?id=14199
END:VEVENT
END:VCALENDAR