BEGIN:VCALENDAR
VERSION:2.0
PRODID:-//Plone.org//NONSGML plone.app.event//EN
X-WR-TIMEZONE:Europe/Madrid
BEGIN:VEVENT
SUMMARY:Cinema infantil
DTSTART;TZID=Europe/Madrid;VALUE=DATE-TIME:20050313T113000
DTEND;TZID=Europe/Madrid;VALUE=DATE-TIME:20050313T123000
DTSTAMP;VALUE=DATE-TIME:20260423T015618Z
UID:dce64e9d675f50fd6b0aa62d3b0543f2
CREATED;VALUE=DATE-TIME:20050313T000000Z
URL:https://www.canetdemar.cat/document.php?id=1419
END:VEVENT
END:VCALENDAR