BEGIN:VCALENDAR
VERSION:2.0
PRODID:-//Plone.org//NONSGML plone.app.event//EN
X-WR-TIMEZONE:Europe/Madrid
BEGIN:VEVENT
SUMMARY:Presentació de llibre: Una certa onada d'Emília Illamola
DTSTART;TZID=Europe/Madrid;VALUE=DATE-TIME:20160212T193000
DTEND;TZID=Europe/Madrid;VALUE=DATE-TIME:20160212T203000
DTSTAMP;VALUE=DATE-TIME:20260422T092700Z
UID:bd5ba237093ee138e94de594924148a6
CREATED;VALUE=DATE-TIME:20160212T000000Z
CATEGORIES:Literatura
LOCATION:Biblioteca P. Gual i Pujadas
ORGANIZER:biblioteca P. Gual i Pujadas
COMMENT:Preu: gratuït
URL:https://www.canetdemar.cat/document.php?id=14175
END:VEVENT
END:VCALENDAR