BEGIN:VCALENDAR
VERSION:2.0
PRODID:-//Plone.org//NONSGML plone.app.event//EN
X-WR-TIMEZONE:Europe/Madrid
BEGIN:VEVENT
SUMMARY:Sopar de botifarra, havaneres i cremat amb les Veus del Mar
DTSTART;TZID=Europe/Madrid;VALUE=DATE-TIME:20050312T210000
DTEND;TZID=Europe/Madrid;VALUE=DATE-TIME:20050312T220000
DTSTAMP;VALUE=DATE-TIME:20260424T114235Z
UID:5139f2ade652536f8828860647ce5c82
CREATED;VALUE=DATE-TIME:20050312T000000Z
URL:https://www.canetdemar.cat/document.php?id=1417
END:VEVENT
END:VCALENDAR