BEGIN:VCALENDAR
VERSION:2.0
PRODID:-//Plone.org//NONSGML plone.app.event//EN
X-WR-TIMEZONE:Europe/Madrid
BEGIN:VEVENT
SUMMARY:Conferència: Danone-calcio i vitamina D per ajudar a mantenir la salut òssia
DTSTART;TZID=Europe/Madrid;VALUE=DATE-TIME:20160318T173000
DTEND;TZID=Europe/Madrid;VALUE=DATE-TIME:20160318T183000
DTSTAMP;VALUE=DATE-TIME:20260421T140740Z
UID:75fabdd93c998b61cce96248af6dc3ad
CREATED;VALUE=DATE-TIME:20160318T000000Z
CATEGORIES:Conferència
LOCATION:Aula Magna CRTTT - Escola de Teixits
ORGANIZER:Sàlvia, Associació de dones de Canet de Mar
COMMENT:Preu: Gratuït
URL:https://www.canetdemar.cat/document.php?id=14166
END:VEVENT
END:VCALENDAR