BEGIN:VCALENDAR
VERSION:2.0
PRODID:-//Plone.org//NONSGML plone.app.event//EN
X-WR-TIMEZONE:Europe/Madrid
BEGIN:VEVENT
SUMMARY:Diumenge de ball
DTSTART;TZID=Europe/Madrid;VALUE=DATE-TIME:20160228T190000
DTEND;TZID=Europe/Madrid;VALUE=DATE-TIME:20160228T200000
DTSTAMP;VALUE=DATE-TIME:20260419T173711Z
UID:2074f270596ee6dab4a840aaa2e64540
CREATED;VALUE=DATE-TIME:20160228T000000Z
LOCATION:Envelat de Vil·la Flora
ORGANIZER:Amics del ball
URL:https://www.canetdemar.cat/document.php?id=14163
END:VEVENT
END:VCALENDAR