BEGIN:VCALENDAR
VERSION:2.0
PRODID:-//Plone.org//NONSGML plone.app.event//EN
X-WR-TIMEZONE:Europe/Madrid
BEGIN:VEVENT
SUMMARY:Véns al teatre? Infàmia
DTSTART;TZID=Europe/Madrid;VALUE=DATE-TIME:20160210T183000
DTEND;TZID=Europe/Madrid;VALUE=DATE-TIME:20160210T193000
DTSTAMP;VALUE=DATE-TIME:20260423T071658Z
UID:70890ff153f323977415005bdfda9680
CREATED;VALUE=DATE-TIME:20160210T000000Z
ORGANIZER:Àrea de Cultura
COMMENT:Preu: 27 euros (entrada i autocar)
URL:https://www.canetdemar.cat/document.php?id=14160
END:VEVENT
END:VCALENDAR