BEGIN:VCALENDAR
VERSION:2.0
PRODID:-//Plone.org//NONSGML plone.app.event//EN
X-WR-TIMEZONE:Europe/Madrid
BEGIN:VEVENT
SUMMARY:Teatre infantil: "El superbarber de Sevilla"
DTSTART;TZID=Europe/Madrid;VALUE=DATE-TIME:20050312T120000
DTEND;TZID=Europe/Madrid;VALUE=DATE-TIME:20050312T130000
DTSTAMP;VALUE=DATE-TIME:20260424T084037Z
UID:e3ab842bfea7eb151cc4c9a4565cc66e
CREATED;VALUE=DATE-TIME:20050312T000000Z
URL:https://www.canetdemar.cat/document.php?id=1416
END:VEVENT
END:VCALENDAR