BEGIN:VCALENDAR
VERSION:2.0
PRODID:-//Plone.org//NONSGML plone.app.event//EN
X-WR-TIMEZONE:Europe/Madrid
BEGIN:VEVENT
SUMMARY:Mercat d'intercanvi i 2a mà
DTSTART;TZID=Europe/Madrid;VALUE=DATE-TIME:20160529T180000
DTEND;TZID=Europe/Madrid;VALUE=DATE-TIME:20160529T190000
DTSTAMP;VALUE=DATE-TIME:20260421T123619Z
UID:771945960c4254e3f2d1baa124de97c8
CREATED;VALUE=DATE-TIME:20160529T000000Z
LOCATION:Plaça Universitat
ORGANIZER:Àrea de Medi Ambient
COMMENT:Durada: de 18.00 a 21.00 hores
URL:https://www.canetdemar.cat/document.php?id=14149
END:VEVENT
END:VCALENDAR