BEGIN:VCALENDAR
VERSION:2.0
PRODID:-//Plone.org//NONSGML plone.app.event//EN
X-WR-TIMEZONE:Europe/Madrid
BEGIN:VEVENT
SUMMARY:Diumenges de ball
DTSTART;TZID=Europe/Madrid;VALUE=DATE-TIME:20160131T190000
DTEND;TZID=Europe/Madrid;VALUE=DATE-TIME:20160131T200000
DTSTAMP;VALUE=DATE-TIME:20260423T134405Z
UID:04e8cae131fd6b506b96b1148a93750e
CREATED;VALUE=DATE-TIME:20160131T000000Z
LOCATION:Envelat de Vil·la Flora
ORGANIZER:Amics del ball
URL:https://www.canetdemar.cat/document.php?id=14095
END:VEVENT
END:VCALENDAR