BEGIN:VCALENDAR
VERSION:2.0
PRODID:-//Plone.org//NONSGML plone.app.event//EN
X-WR-TIMEZONE:Europe/Madrid
BEGIN:VEVENT
SUMMARY:Xerrada de presentació del taller: Com i per qué interpretar els somnis"
DTSTART;TZID=Europe/Madrid;VALUE=DATE-TIME:20160121T173000
DTEND;TZID=Europe/Madrid;VALUE=DATE-TIME:20160121T183000
DTSTAMP;VALUE=DATE-TIME:20260425T223025Z
UID:f90504f0efd52d211025eba9340d0a1a
CREATED;VALUE=DATE-TIME:20160121T000000Z
CATEGORIES:Conferència
LOCATION:Seu de Sàlvia
ORGANIZER:Sàlvia, Associació de dones de Canet de Mar
COMMENT:Preu: Gratuït
URL:https://www.canetdemar.cat/document.php?id=14085
END:VEVENT
END:VCALENDAR