BEGIN:VCALENDAR
VERSION:2.0
PRODID:-//Plone.org//NONSGML plone.app.event//EN
X-WR-TIMEZONE:Europe/Madrid
BEGIN:VEVENT
SUMMARY:Xerrada: Coneguem el Braille a càrrec de l'Associació Catalana per a la Integració del Cec (ACIC)
DTSTART;TZID=Europe/Madrid;VALUE=DATE-TIME:20160122T190000
DTEND;TZID=Europe/Madrid;VALUE=DATE-TIME:20160122T200000
DTSTAMP;VALUE=DATE-TIME:20260422T235957Z
UID:5eb48a977612a4b8a72cb0c571bcc77f
CREATED;VALUE=DATE-TIME:20160122T000000Z
CATEGORIES:Mostra,Conferència
LOCATION:Sala d'audiovisuals del Pavelló Municipal d´Esports (carrer Catalunya, s/n)
ORGANIZER:Plataforma per la Llengua Canet de Mar
COMMENT:Preu: Gratuït
DESCRIPTION:Sistema de lectoescriptura tàctil de les persones cegues
URL:https://www.canetdemar.cat/document.php?id=14007
END:VEVENT
END:VCALENDAR