BEGIN:VCALENDAR
VERSION:2.0
PRODID:-//Plone.org//NONSGML plone.app.event//EN
X-WR-TIMEZONE:Europe/Madrid
BEGIN:VEVENT
SUMMARY:Presentació de llibre: Catàleg de pergamins de Canet de Mar
DTSTART;TZID=Europe/Madrid;VALUE=DATE-TIME:20151222T200000
DTEND;TZID=Europe/Madrid;VALUE=DATE-TIME:20151222T210000
DTSTAMP;VALUE=DATE-TIME:20260425T205909Z
UID:ab83f086f1b14122035d0e04010808dc
CREATED;VALUE=DATE-TIME:20151222T000000Z
LOCATION:Planta baixa de la Biblioteca P. Gual i Pujadas
ORGANIZER:Ajuntament de Canet de Mar, Centre d'Estudis Canetencs i Edicions Els 2 Pins
DESCRIPTION:Col·lecció Estudis de Patrimoni
URL:https://www.canetdemar.cat/document.php?id=14003
END:VEVENT
END:VCALENDAR