BEGIN:VCALENDAR
VERSION:2.0
PRODID:-//Plone.org//NONSGML plone.app.event//EN
X-WR-TIMEZONE:Europe/Madrid
BEGIN:VEVENT
SUMMARY:Ball a l'envelat
DTSTART;TZID=Europe/Madrid;VALUE=DATE-TIME:20151204T183000
DTEND;TZID=Europe/Madrid;VALUE=DATE-TIME:20151204T193000
DTSTAMP;VALUE=DATE-TIME:20260424T103219Z
UID:f76a19bc7cbe92e02bdb627e17554630
CREATED;VALUE=DATE-TIME:20151204T000000Z
LOCATION:Envelat de Vil·la Flora
ORGANIZER:Associació de Jubilats i Pensionistes de Canet
COMMENT:Durada: de 18.30 a 20.30
URL:https://www.canetdemar.cat/document.php?id=14001
END:VEVENT
END:VCALENDAR