BEGIN:VCALENDAR
VERSION:2.0
PRODID:-//Plone.org//NONSGML plone.app.event//EN
X-WR-TIMEZONE:Europe/Madrid
BEGIN:VEVENT
SUMMARY:Gala solidària de Música i Dansa
DTSTART;TZID=Europe/Madrid;VALUE=DATE-TIME:20151213T180000
DTEND;TZID=Europe/Madrid;VALUE=DATE-TIME:20151213T190000
DTSTAMP;VALUE=DATE-TIME:20260426T013828Z
UID:4882e2fa0509e830378029fc9e2f874d
CREATED;VALUE=DATE-TIME:20151213T000000Z
LOCATION:Centre Parroquial
ORGANIZER:Canet en Acció
COMMENT:Preu: Aportació solidària
URL:https://www.canetdemar.cat/document.php?id=13982
END:VEVENT
END:VCALENDAR