BEGIN:VCALENDAR
VERSION:2.0
PRODID:-//Plone.org//NONSGML plone.app.event//EN
X-WR-TIMEZONE:Europe/Madrid
BEGIN:VEVENT
SUMMARY:Véns al teatre? Absurds i singulars
DTSTART;TZID=Europe/Madrid;VALUE=DATE-TIME:20151216T183000
DTEND;TZID=Europe/Madrid;VALUE=DATE-TIME:20151216T193000
DTSTAMP;VALUE=DATE-TIME:20260423T051314Z
UID:4a9df16ba2f421417a4063cd29e25008
CREATED;VALUE=DATE-TIME:20151216T000000Z
LOCATION:parada bus Comediants
ORGANIZER:Àrea de Cultura
COMMENT:Preu: 29 euros/ entrada + autocar
URL:https://www.canetdemar.cat/document.php?id=13969
END:VEVENT
END:VCALENDAR