BEGIN:VCALENDAR
VERSION:2.0
PRODID:-//Plone.org//NONSGML plone.app.event//EN
X-WR-TIMEZONE:Europe/Madrid
BEGIN:VEVENT
SUMMARY:Controles? Sessió formativa adreçada a les entitats esportives i de lleure
DTSTART;TZID=Europe/Madrid;VALUE=DATE-TIME:20151130T190000
DTEND;TZID=Europe/Madrid;VALUE=DATE-TIME:20151130T200000
DTSTAMP;VALUE=DATE-TIME:20260424T120045Z
UID:88e4f6554dcca3ce32955de3c874a488
CREATED;VALUE=DATE-TIME:20151130T000000Z
LOCATION:Sala Cultural Ramon de Capmany
ORGANIZER:Àrea de Joventut amb la col·laboració de la Diputació de Barcelona
COMMENT:Durada: de 19.00 a 21.00 hores
URL:https://www.canetdemar.cat/document.php?id=13963
END:VEVENT
END:VCALENDAR