BEGIN:VCALENDAR
VERSION:2.0
PRODID:-//Plone.org//NONSGML plone.app.event//EN
X-WR-TIMEZONE:Europe/Madrid
BEGIN:VEVENT
SUMMARY:Ball a l'envelat
DTSTART;TZID=Europe/Madrid;VALUE=DATE-TIME:20050220T190000
DTEND;TZID=Europe/Madrid;VALUE=DATE-TIME:20050220T200000
DTSTAMP;VALUE=DATE-TIME:20260423T083207Z
UID:7d39e7934f576983455b1364360d5f4c
CREATED;VALUE=DATE-TIME:20050220T000000Z
URL:https://www.canetdemar.cat/document.php?id=1395
END:VEVENT
END:VCALENDAR