BEGIN:VCALENDAR
VERSION:2.0
PRODID:-//Plone.org//NONSGML plone.app.event//EN
X-WR-TIMEZONE:Europe/Madrid
BEGIN:VEVENT
SUMMARY:Cinema per Gaudí(r) - El Niño
DTSTART;TZID=Europe/Madrid;VALUE=DATE-TIME:20160129T210000
DTEND;TZID=Europe/Madrid;VALUE=DATE-TIME:20160129T220000
DTSTAMP;VALUE=DATE-TIME:20260423T173030Z
UID:9bcf4585c6ef66a09b3d8d4f7e2dd7d6
CREATED;VALUE=DATE-TIME:20160129T000000Z
LOCATION:Centre Parroquial
ORGANIZER:Associació Cultural Plataforma Odèon - ACPO
COMMENT:Preu: Inversió en cultura 3 euros
URL:https://www.canetdemar.cat/document.php?id=13924
END:VEVENT
END:VCALENDAR