BEGIN:VCALENDAR
VERSION:2.0
PRODID:-//Plone.org//NONSGML plone.app.event//EN
X-WR-TIMEZONE:Europe/Madrid
BEGIN:VEVENT
SUMMARY:Taller: no tinc temps per educar el meu fill
DTSTART;TZID=Europe/Madrid;VALUE=DATE-TIME:20151110T173000
DTEND;TZID=Europe/Madrid;VALUE=DATE-TIME:20151110T183000
DTSTAMP;VALUE=DATE-TIME:20260424T171456Z
UID:5be42520b4318c336486b877eaee1b46
CREATED;VALUE=DATE-TIME:20151110T000000Z
LOCATION:Escola Turó del Drac
ORGANIZER:Àrea d'Educació i Escola Turó del Drac
COMMENT:Durada: dimarts 10 i 24 de novembre de 2015
URL:https://www.canetdemar.cat/document.php?id=13915
END:VEVENT
END:VCALENDAR