BEGIN:VCALENDAR
VERSION:2.0
PRODID:-//Plone.org//NONSGML plone.app.event//EN
X-WR-TIMEZONE:Europe/Madrid
BEGIN:VEVENT
SUMMARY:Iron Kids
DTSTART;TZID=Europe/Madrid;VALUE=DATE-TIME:20151108T110000
DTEND;TZID=Europe/Madrid;VALUE=DATE-TIME:20151108T120000
DTSTAMP;VALUE=DATE-TIME:20260423T090346Z
UID:e555b5cc855bbbe6d2715670e1ed34b6
CREATED;VALUE=DATE-TIME:20151108T000000Z
LOCATION:Passeig Marítim
ORGANIZER:Àrea d'Esports
URL:https://www.canetdemar.cat/document.php?id=13911
END:VEVENT
END:VCALENDAR