BEGIN:VCALENDAR
VERSION:2.0
PRODID:-//Plone.org//NONSGML plone.app.event//EN
X-WR-TIMEZONE:Europe/Madrid
BEGIN:VEVENT
SUMMARY:Lliurament de premis: Instants Instagram 2015
DTSTART;TZID=Europe/Madrid;VALUE=DATE-TIME:20151212T130000
DTEND;TZID=Europe/Madrid;VALUE=DATE-TIME:20151212T140000
DTSTAMP;VALUE=DATE-TIME:20260422T184147Z
UID:9880a998bd6451349e5be8c64d3e4486
CREATED;VALUE=DATE-TIME:20151212T000000Z
CATEGORIES:Mostra
LOCATION:Sala Infantil
ORGANIZER:Biblioteca P. Gual i Pujadas
URL:https://www.canetdemar.cat/document.php?id=13905
END:VEVENT
END:VCALENDAR