BEGIN:VCALENDAR
VERSION:2.0
PRODID:-//Plone.org//NONSGML plone.app.event//EN
X-WR-TIMEZONE:Europe/Madrid
BEGIN:VEVENT
SUMMARY:Missa del Gall
DTSTART;TZID=Europe/Madrid;VALUE=DATE-TIME:20021224T230000
DTEND;TZID=Europe/Madrid;VALUE=DATE-TIME:20021225T000000
DTSTAMP;VALUE=DATE-TIME:20260422T092533Z
UID:2ae0f1c61ff9b48fd1a314ce9e50aefb
CREATED;VALUE=DATE-TIME:20021224T000000Z
URL:https://www.canetdemar.cat/document.php?id=139
END:VEVENT
END:VCALENDAR