BEGIN:VCALENDAR
VERSION:2.0
PRODID:-//Plone.org//NONSGML plone.app.event//EN
X-WR-TIMEZONE:Europe/Madrid
BEGIN:VEVENT
SUMMARY:Ruta guiada: Navegants i pescadors
DTSTART;TZID=Europe/Madrid;VALUE=DATE-TIME:20151108T110000
DTEND;TZID=Europe/Madrid;VALUE=DATE-TIME:20151108T120000
DTSTAMP;VALUE=DATE-TIME:20260423T152218Z
UID:f5ed408a05dcf8f99a6ca066ae7e115e
CREATED;VALUE=DATE-TIME:20151108T000000Z
LOCATION:Casa museu Lluís Domènech i Montaner
ORGANIZER:Casa museu Lluís Domènech i Montaner
COMMENT:Preu: 4 euros
URL:https://www.canetdemar.cat/document.php?id=13859
END:VEVENT
END:VCALENDAR