BEGIN:VCALENDAR
VERSION:2.0
PRODID:-//Plone.org//NONSGML plone.app.event//EN
X-WR-TIMEZONE:Europe/Madrid
BEGIN:VEVENT
SUMMARY:Concert a benefici d'Els Garrofers
DTSTART;TZID=Europe/Madrid;VALUE=DATE-TIME:20151108T181500
DTEND;TZID=Europe/Madrid;VALUE=DATE-TIME:20151108T191500
DTSTAMP;VALUE=DATE-TIME:20260423T201246Z
UID:edf0a4af9965370055e38c1eb43a93ca
CREATED;VALUE=DATE-TIME:20151108T000000Z
LOCATION:Centre Parroquial - Carrer Eusebi Golart 16
ORGANIZER:Fundació Els Garrofers
COMMENT:Preu: Entrada anticipada 10 euros (Confeccions Ma Dolors), a taquilla 12 euros. Centre Parroquial
URL:https://www.canetdemar.cat/document.php?id=13855
END:VEVENT
END:VCALENDAR