BEGIN:VCALENDAR
VERSION:2.0
PRODID:-//Plone.org//NONSGML plone.app.event//EN
X-WR-TIMEZONE:Europe/Madrid
BEGIN:VEVENT
SUMMARY:Excursió: Mollerussa i el Parc de les olors de Linyola
DTSTART;TZID=Europe/Madrid;VALUE=DATE-TIME:20151114T073000
DTEND;TZID=Europe/Madrid;VALUE=DATE-TIME:20151114T083000
DTSTAMP;VALUE=DATE-TIME:20260423T033346Z
UID:8e1bd9a3b6261b09f9bf382e7d0e1974
CREATED;VALUE=DATE-TIME:20151114T000000Z
LOCATION:Parada Bus Comediants
ORGANIZER:Sàlvia
COMMENT:Preu: 38 euros/sòcies // 43 euros no socis/es
URL:https://www.canetdemar.cat/document.php?id=13835
END:VEVENT
END:VCALENDAR