BEGIN:VCALENDAR
VERSION:2.0
PRODID:-//Plone.org//NONSGML plone.app.event//EN
X-WR-TIMEZONE:Europe/Madrid
BEGIN:VEVENT
SUMMARY:Exposició: Joan Amades, la memòria del poble
DTSTART;TZID=Europe/Madrid;VALUE=DATE-TIME:20151102T000000
DTEND;TZID=Europe/Madrid;VALUE=DATE-TIME:20151102T010000
DTSTAMP;VALUE=DATE-TIME:20260423T104032Z
UID:3cb5c6ae1faaa1e1df244ed3aa58c8bd
CREATED;VALUE=DATE-TIME:20151102T000000Z
CATEGORIES:Exposició
LOCATION:Biblioteca
ORGANIZER:Plataforma per la Llengua Canet de Mar
COMMENT:Durada: Fins al dissabte 21 de novembre
DESCRIPTION:Activitat de l´Any Amades
URL:https://www.canetdemar.cat/document.php?id=13824
END:VEVENT
END:VCALENDAR