BEGIN:VCALENDAR
VERSION:2.0
PRODID:-//Plone.org//NONSGML plone.app.event//EN
X-WR-TIMEZONE:Europe/Madrid
BEGIN:VEVENT
SUMMARY:Taller gratuït: Una imatge val més que mil paraules
DTSTART;TZID=Europe/Madrid;VALUE=DATE-TIME:20151016T093000
DTEND;TZID=Europe/Madrid;VALUE=DATE-TIME:20151016T103000
DTSTAMP;VALUE=DATE-TIME:20260425T010327Z
UID:977c359aa663cf3ba0c95929df1d01a4
CREATED;VALUE=DATE-TIME:20151016T000000Z
ORGANIZER:Àrea de Promoció Econòmica
COMMENT:Durada: 16 i 23 d´octubre de 9.30 a 13.30 hores
URL:https://www.canetdemar.cat/document.php?id=13818
END:VEVENT
END:VCALENDAR