BEGIN:VCALENDAR
VERSION:2.0
PRODID:-//Plone.org//NONSGML plone.app.event//EN
X-WR-TIMEZONE:Europe/Madrid
BEGIN:VEVENT
SUMMARY:Club de Lectura
DTSTART;TZID=Europe/Madrid;VALUE=DATE-TIME:20151218T160000
DTEND;TZID=Europe/Madrid;VALUE=DATE-TIME:20151218T170000
DTSTAMP;VALUE=DATE-TIME:20260424T053517Z
UID:f216a76ef0c3ae960db2827563be961f
CREATED;VALUE=DATE-TIME:20151218T000000Z
CATEGORIES:Literatura
LOCATION:Biblioteca
ORGANIZER:Biblioteca P. Gual i Pujadas
DESCRIPTION:Medea d'Eurípides
URL:https://www.canetdemar.cat/document.php?id=13787
END:VEVENT
END:VCALENDAR