BEGIN:VCALENDAR
VERSION:2.0
PRODID:-//Plone.org//NONSGML plone.app.event//EN
X-WR-TIMEZONE:Europe/Madrid
BEGIN:VEVENT
SUMMARY:Els quartos de la Virgina amb la Núria de Calella
DTSTART;TZID=Europe/Madrid;VALUE=DATE-TIME:20160311T200000
DTEND;TZID=Europe/Madrid;VALUE=DATE-TIME:20160311T210000
DTSTAMP;VALUE=DATE-TIME:20260424T101314Z
UID:351ad89d8b50cc638f6479bf8fb470fb
CREATED;VALUE=DATE-TIME:20160311T000000Z
CATEGORIES:Literatura
LOCATION:Biblioteca
ORGANIZER:Biblioteca P. Gual i Pujadas
DESCRIPTION:itinerari poètic amb textos de Virgina Woolf
URL:https://www.canetdemar.cat/document.php?id=13783
END:VEVENT
END:VCALENDAR