BEGIN:VCALENDAR
VERSION:2.0
PRODID:-//Plone.org//NONSGML plone.app.event//EN
X-WR-TIMEZONE:Europe/Madrid
BEGIN:VEVENT
SUMMARY:Exposició: Patrimoni ocult
DTSTART;TZID=Europe/Madrid;VALUE=DATE-TIME:20151003T193000
DTEND;TZID=Europe/Madrid;VALUE=DATE-TIME:20151003T203000
DTSTAMP;VALUE=DATE-TIME:20260422T092921Z
UID:d948e5cf99941cb60871f1075897dfce
CREATED;VALUE=DATE-TIME:20151003T000000Z
LOCATION:Sala jardí de la Casa museu Lluís Domènech i Montaner - Xamfrà de la riera Gavarra i Buscarons
ORGANIZER:Àrea de Cultura amb la col·laboració de la Diputació de Barcelona i la Generalitat de Catalunya
COMMENT:Durada: del 3 d'octubre de 2015 al 29 de maig de 2016
URL:https://www.canetdemar.cat/document.php?id=13773
END:VEVENT
END:VCALENDAR