BEGIN:VCALENDAR
VERSION:2.0
PRODID:-//Plone.org//NONSGML plone.app.event//EN
X-WR-TIMEZONE:Europe/Madrid
BEGIN:VEVENT
SUMMARY:III Concurs de Scrabble del Maresme
DTSTART;TZID=Europe/Madrid;VALUE=DATE-TIME:20151114T160000
DTEND;TZID=Europe/Madrid;VALUE=DATE-TIME:20151114T170000
DTSTAMP;VALUE=DATE-TIME:20260423T203421Z
UID:d91841c07e258418375777e6525d1818
CREATED;VALUE=DATE-TIME:20151114T000000Z
LOCATION:La Masoveria (Centre Cívic i Cultural Vil·la Flora a la riera Gavarra, s/n de Canet de Mar)
ORGANIZER:Club de Scrabble en Català Canet de Mar i Plataforma per la Llengua Canet de Mar
COMMENT:Preu: Gratuït
DESCRIPTION:Juga a Scrabble i gaudeix amb la llengua
URL:https://www.canetdemar.cat/document.php?id=13770
END:VEVENT
END:VCALENDAR